BEGIN:VCALENDAR
VERSION:2.0
PRODID:-//Dog-Harmony - ECPv6.15.17.1//NONSGML v1.0//EN
CALSCALE:GREGORIAN
METHOD:PUBLISH
X-ORIGINAL-URL:https://dog-harmony.org
X-WR-CALDESC:Events for Dog-Harmony
REFRESH-INTERVAL;VALUE=DURATION:PT1H
X-Robots-Tag:noindex
X-PUBLISHED-TTL:PT1H
BEGIN:VTIMEZONE
TZID:America/Chicago
BEGIN:DAYLIGHT
TZOFFSETFROM:-0600
TZOFFSETTO:-0500
TZNAME:CDT
DTSTART:20240310T080000
END:DAYLIGHT
BEGIN:STANDARD
TZOFFSETFROM:-0500
TZOFFSETTO:-0600
TZNAME:CST
DTSTART:20241103T070000
END:STANDARD
BEGIN:DAYLIGHT
TZOFFSETFROM:-0600
TZOFFSETTO:-0500
TZNAME:CDT
DTSTART:20250309T080000
END:DAYLIGHT
BEGIN:STANDARD
TZOFFSETFROM:-0500
TZOFFSETTO:-0600
TZNAME:CST
DTSTART:20251102T070000
END:STANDARD
BEGIN:DAYLIGHT
TZOFFSETFROM:-0600
TZOFFSETTO:-0500
TZNAME:CDT
DTSTART:20260308T080000
END:DAYLIGHT
BEGIN:STANDARD
TZOFFSETFROM:-0500
TZOFFSETTO:-0600
TZNAME:CST
DTSTART:20261101T070000
END:STANDARD
END:VTIMEZONE
BEGIN:VEVENT
DTSTART;TZID=America/Chicago:20250615T080000
DTEND;TZID=America/Chicago:20250715T210000
DTSTAMP:20260422T014811
CREATED:20250724T161403Z
LAST-MODIFIED:20250724T161435Z
UID:2063-1749974400-1752613200@dog-harmony.org
SUMMARY:Love in Focus Calendar Contest
DESCRIPTION:It’s Our 10th Anniversary and We’re Focusing on Love!\nAcross NW Florida\, Dog-Harmony has given 10 Years of Unconditional Love: Building Bonds\, Changing Lives\nYou can help us keep the love going by entering your cherished companion-pup\, voting for contestants\, pre-ordering a calendar\, or making a donation to help us reach our goal of $20\,000 for critically needed funds. \n10 human years = 70 dog years of making an impact! \nIt’s easy to participate! \nIs your dog the most loved of them all?\nSubmit your favorite photo of your pet\, following the guidelines and payment of the $10 entry fee. Set your personal goal then rally support for votes with your family and friends with the link to your pet’s entry on social media or posters at your workplace! \n\nPro tip: High-resolution photos (300 dpi or greater) in landscape (horizontal) format have the best chance of winning.\nMake sure you own the photo you submit\, not a pet photographer.\nNo AI images of your pet will be accepted.\n\nView our Rules for info on submitting your dog’s photo to enter. \nCast your votes!\nEach $1 donation equals one vote!  All donations benefit the community education and therapy dog programs by Dog-Harmony. Learn more on the About Us page.\n \nWant to be a Platinum or Gold sponsor? \nYour beloved four-legged friend could win one of 12 Grand Prizes!\n\nIt’s time to let your dog’s unique personality shine! At the end of the contest\, twelve winners in the following categories will receive a professional photo shoot with Kay from Wooftografie. \n\nMost Adored\nMost Admired\nInfatuating Charmers\n\nAt the end of the contest\, the winners of the 12 grand prizes will receive a professional photo shoot with Kay from Wooftografie. You and your dog must be available for the photo shoot. \nQuestions? Contact Us! \nPop-up Prize Winners\nA prize will be awarded randomly to an entry with the most votes during the contest. \n\nAn entry must receive at least 15 votes to be considered for the Pop-up drawing. All winners will be notified by email.\nIn the event of a tie\, a winner will be selected by Dog-Harmony.\nYou may win more than one prize if you meet the criteria.\nA winner of the Pop-up drawing is also eligible for one of the grand prizes if they meet the criteria for either category.\n\nWant to make a donation or volunteer instead of voting? Visit Dog-Harmony’s website. \nPhoto submissions and votes require a minimum tax-deductible donation to support the programs at Dog-Harmony. Please see our rules for complete participant guidelines and eligibility requirements. \n 
URL:https://dog-harmony.org/events/love-in-focus-calendar-contest/
LOCATION:FL
ATTACH;FMTTYPE=image/png:https://dog-harmony.org/wp-content/uploads/2025/07/File-Aug-03-7-12-37-PM.png
END:VEVENT
END:VCALENDAR