BEGIN:VCALENDAR
VERSION:2.0
PRODID:-//Dog-Harmony - ECPv6.15.17.1//NONSGML v1.0//EN
CALSCALE:GREGORIAN
METHOD:PUBLISH
X-ORIGINAL-URL:https://dog-harmony.org
X-WR-CALDESC:Events for Dog-Harmony
REFRESH-INTERVAL;VALUE=DURATION:PT1H
X-Robots-Tag:noindex
X-PUBLISHED-TTL:PT1H
BEGIN:VTIMEZONE
TZID:America/Chicago
BEGIN:DAYLIGHT
TZOFFSETFROM:-0600
TZOFFSETTO:-0500
TZNAME:CDT
DTSTART:20240310T080000
END:DAYLIGHT
BEGIN:STANDARD
TZOFFSETFROM:-0500
TZOFFSETTO:-0600
TZNAME:CST
DTSTART:20241103T070000
END:STANDARD
BEGIN:DAYLIGHT
TZOFFSETFROM:-0600
TZOFFSETTO:-0500
TZNAME:CDT
DTSTART:20250309T080000
END:DAYLIGHT
BEGIN:STANDARD
TZOFFSETFROM:-0500
TZOFFSETTO:-0600
TZNAME:CST
DTSTART:20251102T070000
END:STANDARD
BEGIN:DAYLIGHT
TZOFFSETFROM:-0600
TZOFFSETTO:-0500
TZNAME:CDT
DTSTART:20260308T080000
END:DAYLIGHT
BEGIN:STANDARD
TZOFFSETFROM:-0500
TZOFFSETTO:-0600
TZNAME:CST
DTSTART:20261101T070000
END:STANDARD
END:VTIMEZONE
BEGIN:VEVENT
DTSTART;TZID=America/Chicago:20251015T153000
DTEND;TZID=America/Chicago:20251015T163000
DTSTAMP:20260421T194233
CREATED:20250822T175846Z
LAST-MODIFIED:20250822T175908Z
UID:2093-1760542200-1760545800@dog-harmony.org
SUMMARY:Bark for Books
DESCRIPTION:Join Dog-Harmony and the Walton County Coastal Library for Bark for Books—a tail-waggingly fun way for kids to build confidence by reading aloud to a friendly therapy dog! \nHeld every Wednesday from 3:30–4:30 PM\, September 24 through November 12\, this unique literacy program gives children the chance to practice their reading skills in a calm\, pressure-free environment—paired with one of our trained therapy dogs. \nReading to a nonjudgmental\, furry friend helps children improve fluency\, build self-esteem\, and develop a lifelong love of reading. \nThis program is made possible through the generous support of the St. Joe Community Foundation. \n\n📍 Location: Walton County Coastal Library\n📆 Wednesdays\, Sept. 24 – Nov. 12\n⏰ 3:30–4:30 PM\n\nPlease call the library directly (850-267-2809) to sign up for this complimentary program to encourage child literacy with the help of our amazing volunteer therapy dog teams.
URL:https://dog-harmony.org/events/bark-for-books-4/
LOCATION:Walton County Coastal Library Branch\, 437 Greenway Trail\, Santa Rosa Beach\, FL\, 32459\, United States
ATTACH;FMTTYPE=image/png:https://dog-harmony.org/wp-content/uploads/2025/08/Dog-Harmony-Bark-4-Books-Flyer.png
ORGANIZER;CN="Dog-Harmony":MAILTO:hello@dog-harmony.org
END:VEVENT
END:VCALENDAR