BEGIN:VCALENDAR
VERSION:2.0
PRODID:-//Dog-Harmony - ECPv6.15.17.1//NONSGML v1.0//EN
CALSCALE:GREGORIAN
METHOD:PUBLISH
X-ORIGINAL-URL:https://dog-harmony.org
X-WR-CALDESC:Events for Dog-Harmony
REFRESH-INTERVAL;VALUE=DURATION:PT1H
X-Robots-Tag:noindex
X-PUBLISHED-TTL:PT1H
BEGIN:VTIMEZONE
TZID:America/Chicago
BEGIN:DAYLIGHT
TZOFFSETFROM:-0600
TZOFFSETTO:-0500
TZNAME:CDT
DTSTART:20240310T080000
END:DAYLIGHT
BEGIN:STANDARD
TZOFFSETFROM:-0500
TZOFFSETTO:-0600
TZNAME:CST
DTSTART:20241103T070000
END:STANDARD
BEGIN:DAYLIGHT
TZOFFSETFROM:-0600
TZOFFSETTO:-0500
TZNAME:CDT
DTSTART:20250309T080000
END:DAYLIGHT
BEGIN:STANDARD
TZOFFSETFROM:-0500
TZOFFSETTO:-0600
TZNAME:CST
DTSTART:20251102T070000
END:STANDARD
BEGIN:DAYLIGHT
TZOFFSETFROM:-0600
TZOFFSETTO:-0500
TZNAME:CDT
DTSTART:20260308T080000
END:DAYLIGHT
BEGIN:STANDARD
TZOFFSETFROM:-0500
TZOFFSETTO:-0600
TZNAME:CST
DTSTART:20261101T070000
END:STANDARD
END:VTIMEZONE
BEGIN:VEVENT
DTSTART;TZID=America/Chicago:20251122T110000
DTEND;TZID=America/Chicago:20251122T130000
DTSTAMP:20260421T175251
CREATED:20250925T172615Z
LAST-MODIFIED:20251104T170034Z
UID:2120-1763809200-1763816400@dog-harmony.org
SUMMARY:Family Pawtraits with Santa
DESCRIPTION:Grab your pup and stop by Salty Paws Pet Boutique & Barkery in the Destin Commons for Family Pawtraits with Santa on Saturday\, November 22\, from 11 a.m. to 1 p.m. Family portraits\, provided by Sydney Bassett of Mills Photo Design\, will be offered on a walk-in basis for a $15 donation to Dog-Harmony. Participants can shop for pet holiday gifts and enjoy homemade barkery treats at Salty Paws during the event. Funds raised at the event directly support Dog-Harmony’s community programs.\n\n\n			\n				\n				\n				\n				\n				Get Tickets
URL:https://dog-harmony.org/events/family-pawtraits-with-santa/
LOCATION:Salty Paws Pet Boutique & Barkery\, 4265 Legendary Dr\, Destin\, FL\, 32541\, United States
CATEGORIES:Event
ATTACH;FMTTYPE=image/png:https://dog-harmony.org/wp-content/uploads/2025/09/Pictures-with-Santa-Paws-2025-widescreen.png
ORGANIZER;CN="Dog-Harmony":MAILTO:hello@dog-harmony.org
END:VEVENT
END:VCALENDAR