BEGIN:VCALENDAR
VERSION:2.0
PRODID:-//Dog-Harmony - ECPv6.15.17.1//NONSGML v1.0//EN
CALSCALE:GREGORIAN
METHOD:PUBLISH
X-WR-CALNAME:Dog-Harmony
X-ORIGINAL-URL:https://dog-harmony.org
X-WR-CALDESC:Events for Dog-Harmony
REFRESH-INTERVAL;VALUE=DURATION:PT1H
X-Robots-Tag:noindex
X-PUBLISHED-TTL:PT1H
BEGIN:VTIMEZONE
TZID:America/Chicago
BEGIN:DAYLIGHT
TZOFFSETFROM:-0600
TZOFFSETTO:-0500
TZNAME:CDT
DTSTART:20240310T080000
END:DAYLIGHT
BEGIN:STANDARD
TZOFFSETFROM:-0500
TZOFFSETTO:-0600
TZNAME:CST
DTSTART:20241103T070000
END:STANDARD
BEGIN:DAYLIGHT
TZOFFSETFROM:-0600
TZOFFSETTO:-0500
TZNAME:CDT
DTSTART:20250309T080000
END:DAYLIGHT
BEGIN:STANDARD
TZOFFSETFROM:-0500
TZOFFSETTO:-0600
TZNAME:CST
DTSTART:20251102T070000
END:STANDARD
BEGIN:DAYLIGHT
TZOFFSETFROM:-0600
TZOFFSETTO:-0500
TZNAME:CDT
DTSTART:20260308T080000
END:DAYLIGHT
BEGIN:STANDARD
TZOFFSETFROM:-0500
TZOFFSETTO:-0600
TZNAME:CST
DTSTART:20261101T070000
END:STANDARD
END:VTIMEZONE
BEGIN:VEVENT
DTSTART;TZID=America/Chicago:20250321T130000
DTEND;TZID=America/Chicago:20250321T140000
DTSTAMP:20260422T090153
CREATED:20250723T220403Z
LAST-MODIFIED:20250723T220403Z
UID:2064-1742562000-1742565600@dog-harmony.org
SUMMARY:Kids and Canines Program at Freeport Public Library
DESCRIPTION:Love dogs and want to learn more about how to interact with them? Then Dog-Harmony’s Kids & Canines program at Freeport Public Library on Friday\, March 21 at 1 pm is for YOU! \nThis workshop is geared toward children ages 6-12. It teaches basic canine body language and signs of stress so that children can interact more safely with dogs. The children will then practice these new skills with certified therapy dogs. \nCall the library at (850) 835-2040 to sign up for the program on March 21. \nIf you represent a local library\, please contact Nancy Bown to get your location included in the program’s visiting schedule.
URL:https://dog-harmony.org/events/kids-and-canines-program-at-freeport-public-library/
LOCATION:Freeport Public Library\, 76 FL-20\, Freeport\, FL\, 32439\, United States
ATTACH;FMTTYPE=image/png:https://dog-harmony.org/wp-content/uploads/2025/03/Kids-Canines-at-Freeport-Public-Library-2025-03-21.png
ORGANIZER;CN="Dog-Harmony":MAILTO:hello@dog-harmony.org
END:VEVENT
END:VCALENDAR