BEGIN:VCALENDAR
VERSION:2.0
PRODID:-//Dog-Harmony - ECPv6.15.17.1//NONSGML v1.0//EN
CALSCALE:GREGORIAN
METHOD:PUBLISH
X-WR-CALNAME:Dog-Harmony
X-ORIGINAL-URL:https://dog-harmony.org
X-WR-CALDESC:Events for Dog-Harmony
REFRESH-INTERVAL;VALUE=DURATION:PT1H
X-Robots-Tag:noindex
X-PUBLISHED-TTL:PT1H
BEGIN:VTIMEZONE
TZID:America/Chicago
BEGIN:DAYLIGHT
TZOFFSETFROM:-0600
TZOFFSETTO:-0500
TZNAME:CDT
DTSTART:20240310T080000
END:DAYLIGHT
BEGIN:STANDARD
TZOFFSETFROM:-0500
TZOFFSETTO:-0600
TZNAME:CST
DTSTART:20241103T070000
END:STANDARD
BEGIN:DAYLIGHT
TZOFFSETFROM:-0600
TZOFFSETTO:-0500
TZNAME:CDT
DTSTART:20250309T080000
END:DAYLIGHT
BEGIN:STANDARD
TZOFFSETFROM:-0500
TZOFFSETTO:-0600
TZNAME:CST
DTSTART:20251102T070000
END:STANDARD
BEGIN:DAYLIGHT
TZOFFSETFROM:-0600
TZOFFSETTO:-0500
TZNAME:CDT
DTSTART:20260308T080000
END:DAYLIGHT
BEGIN:STANDARD
TZOFFSETFROM:-0500
TZOFFSETTO:-0600
TZNAME:CST
DTSTART:20261101T070000
END:STANDARD
END:VTIMEZONE
BEGIN:VEVENT
DTSTART;TZID=America/Chicago:20250920T070000
DTEND;TZID=America/Chicago:20250920T120000
DTSTAMP:20260421T194837
CREATED:20250822T174321Z
LAST-MODIFIED:20250822T174514Z
UID:2087-1758351600-1758369600@dog-harmony.org
SUMMARY:Yard Sale Fundraiser at Barks & Bubbles in Destin
DESCRIPTION:A huge shoutout to our friends at Barks and Bubbles for hosting a Yard Sale Fundraiser to benefit Dog-Harmony—and specifically our Paw Pantry program! They’re turning clutter into compassion by collecting gently used items and giving them new purpose—all to help keep dogs in loving homes through pet food assistance.\n\n\n\nWant to support? Donate your unused treasures and help make a difference\, one dollar (and one dog bowl) at a time! Instead of letting your unused or “junk” items collect dust\, donate them to us! Your clutter could become someone else’s treasure — and every dollar raised goes directly toward Dog-Harmony’s Paw Pantry!\n\n\nSuggested Donation Items\n\nHousehold goods\nSmall furniture\nDecor\nKitchenware\nBooks\, toys\, & games\nGently used clothing & accessories\n\n\n\n Please no broken or unsafe items.\n\n\n\nDrop-off details: please leave donations at the back door anytime at Barks & Bubbles on 981 Airport Road in Destin or text 850-716-5543 for a pickup time and we will schedule someone to pick them up.\n\n\n\nInstead of letting your unused or “junk” items collect dust\, donate them to us! Your clutter could become someone else’s treasure — and every dollar raised goes directly toward Dog-Harmony’s Paw Pantry program designed to keep dogs in their homes!
URL:https://dog-harmony.org/events/yard-sale-fundraiser-at-barks-bubbles-in-destin/
LOCATION:Barks & Bubbles\, 981 Airport Road\, Destin\, FL\, 32541\, United States
ATTACH;FMTTYPE=image/jpeg:https://dog-harmony.org/wp-content/uploads/2025/08/Barks-Bubbles-Fundraiser-for-Dog-Harmony.jpg
END:VEVENT
BEGIN:VEVENT
DTSTART;TZID=America/Chicago:20250924T153000
DTEND;TZID=America/Chicago:20250924T163000
DTSTAMP:20260421T194837
CREATED:20250807T144720Z
LAST-MODIFIED:20250807T144720Z
UID:2080-1758727800-1758731400@dog-harmony.org
SUMMARY:Bark for Books
DESCRIPTION:Join Dog-Harmony and the Walton County Coastal Library for Bark for Books—a tail-waggingly fun way for kids to build confidence by reading aloud to a friendly therapy dog! \nHeld every Wednesday from 3:30–4:30 PM\, September 24 through November 12\, this unique literacy program gives children the chance to practice their reading skills in a calm\, pressure-free environment—paired with one of our trained therapy dogs. \nReading to a nonjudgmental\, furry friend helps children improve fluency\, build self-esteem\, and develop a lifelong love of reading. \nThis program is made possible through the generous support of the St. Joe Community Foundation. \n\n📍 Location: Walton County Coastal Library\n📆 Wednesdays\, Sept. 24 – Nov. 12\n⏰ 3:30–4:30 PM\n\nPlease call the library directly (850-267-2809) to sign up for this complimentary program to encourage child literacy with the help of our amazing volunteer therapy dog teams.
URL:https://dog-harmony.org/events/bark-for-books/
LOCATION:Walton County Coastal Library Branch\, 437 Greenway Trail\, Santa Rosa Beach\, FL\, 32459\, United States
ATTACH;FMTTYPE=image/png:https://dog-harmony.org/wp-content/uploads/2025/08/Dog-Harmony-Bark-4-Books-Flyer.png
ORGANIZER;CN="Dog-Harmony":MAILTO:hello@dog-harmony.org
END:VEVENT
END:VCALENDAR